BEGIN:VCALENDAR
VERSION:2.0
PRODID:-//ChamberMaster//Event Calendar 2.0//EN
METHOD:PUBLISH
X-PUBLISHED-TTL:P3D
REFRESH-INTERVAL:P3D
CALSCALE:GREGORIAN
BEGIN:VEVENT
DTSTART:20240229T233000Z
DTEND:20240301T013000Z
X-MICROSOFT-CDO-ALLDAYEVENT:FALSE
SUMMARY:Trash Pandas Business Mixer (Spring)
DESCRIPTION:We're over the moon for another year of the 'We Heart Rocket City' Business Mixer! In conjunction with the American Heart Association\, Madison Chamber of Commerce\, Huntsville/Madison County Chamber\, Huntsville/Madison Country Convention & Visitors Bureau\, Leadership Huntsville\, and the Decatur-Morgan County Chamber of Commerce\, this event is open to the public and free to attend! Come network with others from all around North Alabama!\n\nThe Business Mixer will take place on Thursday\, February 29th (Leap Day) at Toyota Field from 5:30 PM to 7:30 PM. Attendees are encouraged to mix and mingle\, learn about partnership opportunities with the Trash Pandas\, book group outings for 2024\, and more! Guests will also receive 10% off in The Junkyard Team Store that night.\n\nAdditionally\, any attendee can have their company's logo shown on the videoboard throughout the night! RSVP by no later than Monday\, February 26th using the form below to add a logo. Bring your business cards\, as we'll have multiple Trash Pandas giveaways during the evening! Beverages will be available for purchase as well.
X-ALT-DESC;FMTTYPE=text/html:<p style="box-sizing: border-box\; margin-bottom: 1rem\; margin-top: 0px\; font-family: Lato\, &quot\;Helvetica Neue&quot\;\, Helvetica\, Arial\, sans-serif\; font-size: 16px\;"><span style="font-size:12px\;"><span style="font-family:verdana\;">We&#39\;re over the moon for another year of the &#39\;We Heart Rocket City&#39\; Business Mixer! In conjunction with the American Heart Association\, Madison Chamber of Commerce\, Huntsville/Madison County Chamber\, Huntsville/Madison Country Convention &amp\; Visitors Bureau\, Leadership Huntsville\, and the Decatur-Morgan County Chamber of Commerce\, this event is open to the public and free to attend! Come network with others from all around North Alabama!</span></span></p>\n\n<p style="box-sizing: border-box\; margin-bottom: 1rem\; margin-top: 0px\; font-family: Lato\, &quot\;Helvetica Neue&quot\;\, Helvetica\, Arial\, sans-serif\; font-size: 16px\;"><span style="font-size:12px\;"><span style="font-family:verdana\;">The Business Mixer will take place on Thursday\, February 29th (Leap Day) at Toyota Field from 5:30 PM to 7:30 PM. Attendees are encouraged to mix and mingle\, learn about partnership opportunities with the Trash Pandas\, book group outings for 2024\, and more! Guests will also receive 10% off in The Junkyard Team Store that night.</span></span></p>\n\n<p style="box-sizing: border-box\; margin-bottom: 1rem\; margin-top: 0px\; font-family: Lato\, &quot\;Helvetica Neue&quot\;\, Helvetica\, Arial\, sans-serif\; font-size: 16px\;"><span style="font-size:12px\;"><span style="font-family:verdana\;">Additionally\, any attendee can have their company&#39\;s logo shown on the videoboard throughout the night! RSVP by no later than Monday\, February 26th using the form below to add a logo. Bring your business cards\, as we&#39\;ll have multiple Trash Pandas giveaways during the evening! Beverages will be available for purchase as well.</span></span></p>\n
LOCATION:This is not a Madison Chamber hosted event\, but we will be there in support of our Rocket City Trash Pandas! We hope to see you there!
UID:e.1557.4013
SEQUENCE:3
DTSTAMP:20260419T150842Z
URL:https://business.madisonalchamber.com/events/details/trash-pandas-business-mixer-spring-4013
END:VEVENT

END:VCALENDAR
