BEGIN:VCALENDAR
VERSION:2.0
PRODID:-//ChamberMaster//Event Calendar 2.0//EN
METHOD:PUBLISH
X-PUBLISHED-TTL:P3D
REFRESH-INTERVAL:P3D
CALSCALE:GREGORIAN
BEGIN:VEVENT
DTSTART:20260421T223000Z
DTEND:20260422T003000Z
X-MICROSOFT-CDO-ALLDAYEVENT:FALSE
SUMMARY:She Means Business - Spring 2026
DESCRIPTION:She Means Business is one of the Madison Chamber of Commerce's newest events\, bringing together women leaders to connect\, grow and support one another. The committee delivers purposeful programming focused on professional development\, work-life balance and meaningful networking\, while encouraging women to stay actively involved in the chamber and the Madison business community.
X-ALT-DESC;FMTTYPE=text/html:<span style="color: rgb(12\, 47\, 102)\; font-family: Montserrat\, ui-sans-serif\, system-ui\, -apple-system\, &quot\;system-ui&quot\;\, Helvetica\, Arial\, sans-serif\; font-size: medium\; text-align: center\;">She Means Business is one of the Madison Chamber of Commerce&rsquo\;s newest events\, bringing together women leaders to connect\, grow and support one another. The committee delivers purposeful programming focused on professional development\, work-life balance and meaningful networking\, while encouraging women to stay actively involved in the chamber and the Madison business community.</span>
LOCATION:Fantasy Playhouse Children's Theater & Academy
UID:e.1557.5157
SEQUENCE:3
DTSTAMP:20260423T015501Z
URL:https://business.madisonalchamber.com/events/details/she-means-business-spring-2026-5157
END:VEVENT

END:VCALENDAR
