BEGIN:VCALENDAR
VERSION:2.0
PRODID:-//ChamberMaster//Event Calendar 2.0//EN
METHOD:PUBLISH
X-PUBLISHED-TTL:P3D
REFRESH-INTERVAL:P3D
CALSCALE:GREGORIAN
BEGIN:VEVENT
DTSTART:20260430T210000Z
DTEND:20260430T213000Z
X-MICROSOFT-CDO-ALLDAYEVENT:FALSE
SUMMARY:Ribbon Cutting - Elveera Esthetics
DESCRIPTION:The Madison Chamber is pleased to invite you to join us for a ribbon cutting celebration for Elveera Esthetics\, a new luxury skincare and wellness studio. Elveera Esthetics offers a curated menu of beauty services including European facials\, body waxing\, facial massage\, and personalized skin care. We look forward to welcoming this new business to the Madison community.
X-ALT-DESC;FMTTYPE=text/html:<p class="p1" style="caret-color: rgb(0\, 0\, 0)\; color: rgb(0\, 0\, 0)\;"><span style="font-size: 16px\; white-space: pre-wrap\; caret-color: rgb(12\, 46\, 101)\; color: rgb(12\, 46\, 101)\; font-family: Montserrat\, sans-serif\;">The Madison Chamber is pleased to invite you to join us for a ribbon cutting celebration for Elveera Esthetics\, a new luxury skincare and wellness studio. Elveera Esthetics offers a curated menu of beauty services including European facials\, body waxing\, facial massage\, and personalized skin care. We look forward to welcoming this new business to the Madison community.</span></p>\n
LOCATION:Elveera Esthetics
UID:e.1557.5160
SEQUENCE:3
DTSTAMP:20260424T220017Z
URL:https://business.madisonalchamber.com/events/details/ribbon-cutting-elveera-esthetics-5160
END:VEVENT

END:VCALENDAR
