BEGIN:VCALENDAR
VERSION:2.0
PRODID:-//ChamberMaster//Event Calendar 2.0//EN
METHOD:PUBLISH
X-PUBLISHED-TTL:P3D
REFRESH-INTERVAL:P3D
CALSCALE:GREGORIAN
BEGIN:VEVENT
DTSTART:20250602T150000Z
DTEND:20250602T160000Z
X-MICROSOFT-CDO-ALLDAYEVENT:FALSE
SUMMARY:Ribbon Cutting - Walk-On's Sports Bistreaux
DESCRIPTION:Walk-On's Sports Bistreaux is gearing up to celebrate the grand opening of its new location in Town Madison with a ribbon-cutting ceremony\, bringing its signature game-day atmosphere and Louisiana-inspired menu to the heart of Madison.
X-ALT-DESC;FMTTYPE=text/html:<span style="color:#0c2e65\;"><span style="font-size:14px\;"><span style="font-family:arial\;"><span style="caret-color: rgb(12\, 46\, 101)\;">Walk-On&rsquo\;s Sports Bistreaux is gearing up to celebrate the grand opening of its new location in Town Madison with a ribbon-cutting ceremony\, bringing its signature game-day atmosphere and Louisiana-inspired menu to the heart of Madison.</span></span></span></span>
LOCATION:
UID:e.1557.5061
SEQUENCE:3
DTSTAMP:20260424T225437Z
URL:http://business.madisonalchamber.com/events/details/ribbon-cutting-walk-on-s-sports-bistreaux-5061
END:VEVENT

END:VCALENDAR
