BEGIN:VCALENDAR
VERSION:2.0
PRODID:-//ChamberMaster//Event Calendar 2.0//EN
METHOD:PUBLISH
X-PUBLISHED-TTL:P3D
REFRESH-INTERVAL:P3D
CALSCALE:GREGORIAN
BEGIN:VEVENT
DTSTART:20240806T180000Z
DTEND:20240806T183000Z
X-MICROSOFT-CDO-ALLDAYEVENT:FALSE
SUMMARY:Ribbon Cutting - Fresenius Medical Care
DESCRIPTION:Come out to the official ribbon cutting of Fresenius Medical Care!\n\n\n\nFresenius is the world's leading provider of products and services for people with chronic kidney failure. Around 4.1 million patients worldwide regularly undergo dialysis treatment. Along with its core business\, the Renal Care Continuum\, the company focuses on expanding in complementary areas and in the field of critical care.
X-ALT-DESC;FMTTYPE=text/html:Come out to the official ribbon cutting of Fresenius Medical Care!<br />\n<br />\nFresenius is the world&#39\;s leading provider of products and services for people with chronic kidney failure. Around 4.1 million patients worldwide regularly undergo dialysis treatment. Along with its core business\, the Renal Care Continuum\, the company focuses on expanding in complementary areas and in the field of critical care.&nbsp\;
LOCATION:
UID:e.1557.4208
SEQUENCE:3
DTSTAMP:20260421T124448Z
URL:http://business.madisonalchamber.com/events/details/ribbon-cutting-fresenius-medical-care-4208
END:VEVENT

END:VCALENDAR
