BEGIN:VCALENDAR
VERSION:2.0
PRODID:-//ChamberMaster//Event Calendar 2.0//EN
METHOD:PUBLISH
X-PUBLISHED-TTL:P3D
REFRESH-INTERVAL:P3D
CALSCALE:GREGORIAN
BEGIN:VEVENT
DTSTART:20250207T200000Z
DTEND:20250207T203000Z
X-MICROSOFT-CDO-ALLDAYEVENT:FALSE
SUMMARY:Ribbon Cutting - Bellehouse
DESCRIPTION:Let's celebrate the ribbon cutting of the Bellehouse in Madison! This stunning event venue is perfect for everything from corporate events to weddings and more. It's official ribbon cutting will take place in February and usher in a new era of event accommodations within the city of Madison. We can't wait to see you there!
X-ALT-DESC;FMTTYPE=text/html:Let&#39\;s celebrate the ribbon cutting of the Bellehouse in Madison! This stunning event venue is perfect for everything from corporate events to weddings and more. It&#39\;s official ribbon cutting will take place in February and usher in a new era of event accommodations within the city of Madison. We can&#39\;t wait to see you there!
LOCATION:
UID:e.1557.4281
SEQUENCE:3
DTSTAMP:20260423T051958Z
URL:http://business.madisonalchamber.com/events/details/ribbon-cutting-bellehouse-4281
END:VEVENT

END:VCALENDAR
