BEGIN:VCALENDAR
VERSION:2.0
PRODID:-//ChamberMaster//Event Calendar 2.0//EN
METHOD:PUBLISH
X-PUBLISHED-TTL:P3D
REFRESH-INTERVAL:P3D
CALSCALE:GREGORIAN
BEGIN:VEVENT
DTSTART:20191019T170000Z
DTEND:20191019T200000Z
X-MICROSOFT-CDO-ALLDAYEVENT:FALSE
SUMMARY:Fall Festival 2019
DESCRIPTION:Join us for our annual Fall Festival\n\nOctober 19 at 12 noon\n\nFood\, Fun and Fellowship for all ages
X-ALT-DESC;FMTTYPE=text/html:<span style="background-color:rgb(255\, 255\, 255)\; color:rgb(29\, 33\, 41)\; font-family:inherit\; font-size:14px">Join us for our annual Fall Festival</span><br />\n<span style="background-color:rgb(255\, 255\, 255)\; color:rgb(29\, 33\, 41)\; font-family:inherit\; font-size:14px">October 19 at 12 noon<br />\nFood\, Fun and Fellowship for all ages</span>
LOCATION:Shiloh Primitive Baptist Church 198 Brownsferry Rd. Madison\, AL 35758
UID:e.1557.3109
SEQUENCE:3
DTSTAMP:20260424T104116Z
URL:http://business.madisonalchamber.com/events/details/fall-festival-2019-3109
END:VEVENT

END:VCALENDAR
